BEGIN:VCALENDAR
VERSION:2.0
PRODID:-//Fintova - ECPv6.7.0//NONSGML v1.0//EN
CALSCALE:GREGORIAN
METHOD:PUBLISH
X-WR-CALNAME:Fintova
X-ORIGINAL-URL:https://www.fintova.com
X-WR-CALDESC:Events for Fintova
REFRESH-INTERVAL;VALUE=DURATION:PT1H
X-Robots-Tag:noindex
X-PUBLISHED-TTL:PT1H
BEGIN:VTIMEZONE
TZID:America/New_York
BEGIN:DAYLIGHT
TZOFFSETFROM:-0500
TZOFFSETTO:-0400
TZNAME:EDT
DTSTART:20240310T070000
END:DAYLIGHT
BEGIN:STANDARD
TZOFFSETFROM:-0400
TZOFFSETTO:-0500
TZNAME:EST
DTSTART:20241103T060000
END:STANDARD
END:VTIMEZONE
BEGIN:VEVENT
DTSTART;TZID=America/New_York:20240624T080000
DTEND;TZID=America/New_York:20240726T170000
DTSTAMP:20260421T194551
CREATED:20240726T233920Z
LAST-MODIFIED:20240814T192218Z
UID:2404-1719216000-1722013200@www.fintova.com
SUMMARY:Ignite 2024
DESCRIPTION:IGNITE 2024\nPowered by Fuel\, IGNITE 2024 allows asset allocators to effortlessly connect through one-on-one video meetings with a diversified offering of alternative investment managers across asset classes and geographies. This is a virtual capital introduction event. To learn more\, please schedule a meeting.
URL:https://www.fintova.com/event/ignite-2024/
ATTACH;FMTTYPE=image/jpeg:https://www.fintova.com/wp-content/uploads/2024/07/meeting.jpg
END:VEVENT
BEGIN:VEVENT
DTSTART;TZID=America/New_York:20240721T173000
DTEND;TZID=America/New_York:20240721T193000
DTSTAMP:20260421T194551
CREATED:20240701T173736Z
LAST-MODIFIED:20240707T204715Z
UID:2279-1721583000-1721590200@www.fintova.com
SUMMARY:Welcome to Newport Cocktails
DESCRIPTION:11th Annual Welcome to Newport Cocktails\nOn the eve of the Opal Family Office and Private Wealth Management Forum\, we’re thrilled to return to Newport for a week of business\, networking\, fun\, and catching up with friends – old and new. This event is INVITE ONLY.
URL:https://www.fintova.com/event/welcome-to-newport-cocktails/
LOCATION:The Landing Restaurant\, 30 Bowen's Wharf\, Newport\, RI\, 02840\, United States
ATTACH;FMTTYPE=image/jpeg:https://www.fintova.com/wp-content/uploads/2024/07/newport2.jpeg
ORGANIZER;CN="Fintova Partners":MAILTO:info@fintovapartners.com
END:VEVENT
END:VCALENDAR