BEGIN:VCALENDAR
VERSION:2.0
PRODID:-//Fintova - ECPv6.7.0//NONSGML v1.0//EN
CALSCALE:GREGORIAN
METHOD:PUBLISH
X-WR-CALNAME:Fintova
X-ORIGINAL-URL:https://www.fintova.com
X-WR-CALDESC:Events for Fintova
REFRESH-INTERVAL;VALUE=DURATION:PT1H
X-Robots-Tag:noindex
X-PUBLISHED-TTL:PT1H
BEGIN:VTIMEZONE
TZID:America/New_York
BEGIN:DAYLIGHT
TZOFFSETFROM:-0500
TZOFFSETTO:-0400
TZNAME:EDT
DTSTART:20240310T070000
END:DAYLIGHT
BEGIN:STANDARD
TZOFFSETFROM:-0400
TZOFFSETTO:-0500
TZNAME:EST
DTSTART:20241103T060000
END:STANDARD
END:VTIMEZONE
BEGIN:VEVENT
DTSTART;TZID=America/New_York:20240530T173000
DTEND;TZID=America/New_York:20240530T193000
DTSTAMP:20260422T000723
CREATED:20240530T010250Z
LAST-MODIFIED:20240708T010458Z
UID:2465-1717090200-1717097400@www.fintova.com
SUMMARY:Hedge Fund Social Fort Lauderdale
DESCRIPTION:Hedge Fund Social Fort Lauderdale\nJoin us in Fort Lauderdale\, where some of the biggest names in Investment Management now call home. We’ve curated an exciting evening to connect the dots and network with industry colleagues in a social environment held on the magnificent Las Olas Boulevard\, in the heart of the Fort Lauderdale financial business district. We’ll also be joined by the Mayor of the city of Fort Lauderdale\, The Honorable Dean Trantalis. This event is INVITE ONLY.
URL:https://www.fintova.com/event/hedge-fund-social-fort-lauderdale/
LOCATION:Moxies\, 201 E Las Olas Blvd\, Unit B1\, Fort Lauderdale\, FL\, 33301\, United States
ATTACH;FMTTYPE=image/jpeg:https://www.fintova.com/wp-content/uploads/2024/07/HFS0524.jpg
END:VEVENT
END:VCALENDAR