BEGIN:VCALENDAR
VERSION:2.0
PRODID:-//Fintova - ECPv6.7.0//NONSGML v1.0//EN
CALSCALE:GREGORIAN
METHOD:PUBLISH
X-WR-CALNAME:Fintova
X-ORIGINAL-URL:https://www.fintova.com
X-WR-CALDESC:Events for Fintova
REFRESH-INTERVAL;VALUE=DURATION:PT1H
X-Robots-Tag:noindex
X-PUBLISHED-TTL:PT1H
BEGIN:VTIMEZONE
TZID:America/New_York
BEGIN:DAYLIGHT
TZOFFSETFROM:-0500
TZOFFSETTO:-0400
TZNAME:EDT
DTSTART:20240310T070000
END:DAYLIGHT
BEGIN:STANDARD
TZOFFSETFROM:-0400
TZOFFSETTO:-0500
TZNAME:EST
DTSTART:20241103T060000
END:STANDARD
END:VTIMEZONE
BEGIN:VEVENT
DTSTART;TZID=America/New_York:20240904T120000
DTEND;TZID=America/New_York:20240904T140000
DTSTAMP:20260421T230712
CREATED:20240814T153057Z
LAST-MODIFIED:20240814T195333Z
UID:2960-1725451200-1725458400@www.fintova.com
SUMMARY:Fort Lauderdale: Center Point of Wall Street South
DESCRIPTION:Fort Lauderdale: Center of Wall Street South\nJoin us for a private luncheon hosted by the Hon. Mayor Dean Trantalis\, City of Fort Lauderdale. Discussion will focus on opportunities within the financial services industry to deliver significant economic benefits and job creation in Fort Lauderdale\, the “Center Point of South Florida.” Mayor Trantalis will provide updates on the economic growth and enhancements to the city\, followed by open dialogue to share perspectives on how the city can facilitate further industry growth. Venue details provided upon registration. This event is INVITE ONLY and strictly limited.
URL:https://www.fintova.com/event/fort-lauderdale-center-point-of-wall-street-south/
ATTACH;FMTTYPE=image/jpeg:https://www.fintova.com/wp-content/uploads/2024/07/ftl-state-of-city-2023-06.jpeg
END:VEVENT
END:VCALENDAR